BEGIN:VCALENDAR
VERSION:2.0
CALSCALE:GREGORIAN
PRODID:adamgibbons/ics
METHOD:PUBLISH
X-PUBLISHED-TTL:PT1H
BEGIN:VEVENT
UID:1326@rebaltela.org
SUMMARY:La Tana della Talpa - Edizione Speciale - RESISTENZE AL CAPITALISMO
DTSTAMP:20260425T131332Z
DTSTART:20260424T173000Z
DTEND:20260424T213000Z
DESCRIPTION:Prima di diventare templi del silenzio e del biglietto numerato
	\, le sale\ncinematografiche erano ambienti ibridi e popolari\, spazi attr
	aversati da persone\nmarginali\, rumorose\, curiose\, dove si sperimentava
	no linguaggi nuovi e si\ncostruivano immaginari collettivi. È a quell’idea
	 di cinema che vogliamo\ntornare.\n\nLa Tana della Talpa non è solo una sa
	la di proiezione\, ma un appuntamento\n(quasi) settimanale gratuito\, aper
	ta dalle 19:30\, in cui il cinema diventa un\npretesto per stare insieme.\
	n\nEdizione RESISTENZE AL CAPITALISMO\n\nVenerdi 24 aprile le proiezione d
	i:\nSurplus: Terrorized Into Being Consumers (2003) Erik Gandini\, Svezia\
	, 52’\n\nSurplus è un documentario senza respiro che non si limita a racco
	ntare il\nconsumismo: lo combatte con le sue stesse armi\, quelle della mu
	sica e del\nvideoclip . Erik Gandini e la sua troupe viaggiano tra i parad
	ossi del lusso\nsfrenato e della povertà estrema per sostenere una tesi: s
	iamo stati\nterrorizzati psicologicamente per diventare macchine da consum
	o. Girato le\nproteste del G8 a Genova\, tra le acciaierie dell'India\, e 
	i saloni dell'auto\namericani\, il film utilizza le stesse tecniche della 
	pubblicità per denunciare\nil vuoto della società dell’”abbondanza"\, chie
	dendosi se la tecnologia e il\nsurplus ci rendano davvero liberi.\n\nMidni
	ght Family\, Luke Lorentzen\, (2019)\, Luke Lorentzen\, Messico\, 81'\n\nA
	mbientato a Città del Messico\, dove vivono circa 9 milioni di persone ci 
	sono a\ndisposizione soltanto 45 ambulanze pubbliche: la famiglia Ochoa ge
	stisce\nun'ambulanza privata per riempire questo vuoto nel sistema sanitar
	io .\n\nGuidata dal padre Fer e dal figlio diciassettenne Juan\, la famigl
	ia passa le\nnotti a gareggiare contro altre ambulanze private per essere 
	la prima a\nraggiungere incidenti e emergenze mediche . Il loro lavoro li 
	mette\ncostantemente di fronte a dilemmi morali: devono richiedere il paga
	mento a\npazienti in condizioni critiche e alle loro famiglie\, competere 
	in un ambiente\nspietato\, pagare tangenti alla polizia e fare i conti con
	 una vita familiare\nmessa a dura prova dalla povertà e dallo stress .\n\n
	Girato con uno stile coinvolgente\, il documentario offre uno sguardo\nadr
	enalinico e intimo sulle conseguenze umane di un sistema sanitario\ncapita
	lista sull'orlo del collasso .\n
URL:https://rebaltela.org/event/la-tana-della-talpa-edizione-resistenze-al-
	capitalismo
LOCATION:Vag61 - Via Paolo Fabbri 110
STATUS:CONFIRMED
CATEGORIES:Vag61,dibattito e disagio,documentari action,doppia proiezione,e
	ntrata libera,popcorn vegan,sedie scomode
X-ALT-DESC;FMTTYPE=text/html:<p>Prima di diventare templi del silenzio e de
	l biglietto numerato, le sale cinematografiche erano ambienti ibridi e pop
	olari, spazi attraversati da persone marginali, rumorose, curiose, dove si
	 sperimentavano linguaggi nuovi e si costruivano immaginari collettivi. È 
	a quell’idea di cinema che vogliamo tornare.</p><p>La Tana della Talpa non
	 è solo una sala di proiezione, ma un appuntamento (quasi) settimanale gra
	tuito, aperta dalle 19:30, in cui il cinema diventa un pretesto per stare 
	insieme.</p><p>Edizione <strong>RESISTENZE AL CAPITALISMO<br></strong><br>
	Venerdi 24 aprile le proiezione di:<br><strong>Surplus: Terrorized Into Be
	ing Consumers&nbsp;</strong>(2003) Erik Gandini, Svezia, 52’</p><p><strong
	>Surplus</strong>&nbsp;è un documentario senza respiro che non si limita a
	 raccontare il consumismo: lo combatte con le sue stesse armi, quelle dell
	a musica e del videoclip&nbsp;. Erik Gandini e la sua troupe viaggiano tra
	 i paradossi del lusso sfrenato e della povertà estrema per sostenere una 
	tesi: siamo stati terrorizzati psicologicamente per diventare macchine da 
	consumo. Girato le proteste del G8 a Genova, tra le acciaierie dell'India,
	 e i saloni dell'auto americani, il film utilizza le stesse tecniche della
	 pubblicità per denunciare il vuoto della società dell’”abbondanza", chied
	endosi se la tecnologia e il surplus ci rendano davvero liberi.</p><p><str
	ong>Midnight Family, </strong>Luke Lorentzen<strong>, </strong>(2019), Luk
	e Lorentzen, Messico, 81<strong>'</strong></p><p>Ambientato a Città del Me
	ssico, dove vivono circa 9 milioni di persone ci sono a disposizione solta
	nto 45 ambulanze pubbliche: la famiglia Ochoa gestisce un'ambulanza privat
	a per riempire questo vuoto nel sistema sanitario&nbsp;.</p><p>Guidata dal
	 padre Fer e dal figlio diciassettenne Juan, la famiglia passa le notti a 
	gareggiare contro altre ambulanze private per essere la prima a raggiunger
	e incidenti e emergenze mediche&nbsp;. Il loro lavoro li mette costantemen
	te di fronte a dilemmi morali: devono richiedere il pagamento a pazienti i
	n condizioni critiche e alle loro famiglie, competere in un ambiente spiet
	ato, pagare tangenti alla polizia e fare i conti con una vita familiare me
	ssa a dura prova dalla povertà e dallo stress&nbsp;.</p><p>Girato con uno 
	stile coinvolgente, il documentario offre uno sguardo adrenalinico e intim
	o sulle conseguenze umane di un sistema sanitario capitalista sull'orlo de
	l collasso&nbsp;.<br></p>
BEGIN:VALARM
ACTION:DISPLAY
DESCRIPTION:La Tana della Talpa - Edizione Speciale - RESISTENZE AL CAPITAL
	ISMO
TRIGGER:-PT1H
END:VALARM
END:VEVENT
END:VCALENDAR
